BEGIN:VCALENDAR
VERSION:2.0
PRODID:-//Musician Gig Tracker//EN
CALSCALE:GREGORIAN
BEGIN:VEVENT
UID:mgt-gig-55@alexhenley.com
DTSTAMP:20260423T143136Z
DTSTART;TZID=America/Chicago:20260508T190000
DTEND;TZID=America/Chicago:20260508T220000
SUMMARY:Alex Henley & the Exchange
DESCRIPTION:Alex Henley &amp\; the Exchange will be back at Neighbor's with special guest Yaume Lannoy from France on bass!
LOCATION:Neighbor's Kitchen & Yard - 601 Chestnut St Building C\, Bastrop\, TX 78602
END:VEVENT
END:VCALENDAR
