BEGIN:VCALENDAR
VERSION:2.0
PRODID:-//Musician Gig Tracker//EN
CALSCALE:GREGORIAN
BEGIN:VEVENT
UID:mgt-gig-56@alexhenley.com
DTSTAMP:20260423T143121Z
DTSTART;TZID=America/Chicago:20260514T183000
DTEND;TZID=America/Chicago:20260514T210000
SUMMARY:Alex Henley & the Exchange
DESCRIPTION:Alex Henley &amp\; the Exchange Live at Lambert's with special guest Yaume Lannoy from France on bass.
LOCATION:Lambert's Austin - 401 W 2nd St\, Austin\, TX 78701
END:VEVENT
END:VCALENDAR
