BEGIN:VCALENDAR
VERSION:2.0
PRODID:-//Musician Gig Tracker//EN
CALSCALE:GREGORIAN
BEGIN:VEVENT
UID:mgt-gig-60@alexhenley.com
DTSTAMP:20260423T143055Z
DTSTART;TZID=America/Chicago:20260425T223000
DTEND;TZID=America/Chicago:20260426T013000
SUMMARY:Soul Man Sam
DESCRIPTION:21+ only. C-Boy’s Heart &amp\; Soul is a neighborhood juke-joint featuring classic soul and R&amp\;B music.
LOCATION:C-Boys Heart & Soul - 2008 S Congress Ave\, Austin\, TX 78704
END:VEVENT
END:VCALENDAR
