BEGIN:VCALENDAR
VERSION:2.0
PRODID:-//Musician Gig Tracker//EN
CALSCALE:GREGORIAN
BEGIN:VEVENT
UID:mgt-gig-72@alexhenley.com
DTSTAMP:20260423T143235Z
DTSTART;TZID=America/Chicago:20260510T163000
DTEND;TZID=America/Chicago:20260510T190000
SUMMARY:Alex Henley & the Exchange
DESCRIPTION:Full band with guest bassist\, Yaume Lannoy from France!
LOCATION:Easy Tiger - The Linc - 6406 N Interstate 35 Frontage Rd #1100\, Austin\, TX 78752
END:VEVENT
END:VCALENDAR
