BEGIN:VCALENDAR
VERSION:2.0
PRODID:-//Musician Gig Tracker//EN
CALSCALE:GREGORIAN
BEGIN:VEVENT
UID:mgt-gig-73@alexhenley.com
DTSTAMP:20260423T143121Z
DTSTART;TZID=America/Chicago:20260424T190000
DTEND;TZID=America/Chicago:20260424T220000
SUMMARY:Soul Man Sam
DESCRIPTION:Private Party
LOCATION:Private Party
END:VEVENT
END:VCALENDAR
