BEGIN:VCALENDAR
VERSION:2.0
PRODID:-//Musician Gig Tracker//EN
CALSCALE:GREGORIAN
BEGIN:VEVENT
UID:mgt-gig-77@alexhenley.com
DTSTAMP:20260423T143055Z
DTSTART;TZID=America/Chicago:20260725T210000
DTEND;TZID=America/Chicago:20260726T000000
SUMMARY:Tish and the Mizzbehavin Band
LOCATION:Rowdy Spur - 242 Losoya St #121\, San Antonio\, TX 78205
END:VEVENT
END:VCALENDAR
