BEGIN:VCALENDAR
VERSION:2.0
PRODID:-//Musician Gig Tracker//EN
CALSCALE:GREGORIAN
BEGIN:VEVENT
UID:mgt-gig-80@alexhenley.com
DTSTAMP:20260423T143136Z
DTSTART;TZID=America/Chicago:20261019T190000
DTEND;TZID=America/Chicago:20261019T213000
SUMMARY:Alex Henley & the Exchange
DESCRIPTION:Europe Tour
LOCATION:Hall Blues Club - 3 Rue de la Tour\, 42410 Pélussin\, France
END:VEVENT
END:VCALENDAR
