BEGIN:VCALENDAR
VERSION:2.0
PRODID:-//Musician Gig Tracker//EN
CALSCALE:GREGORIAN
BEGIN:VEVENT
UID:mgt-gig-81@alexhenley.com
DTSTAMP:20260423T143320Z
DTSTART;TZID=America/Chicago:20261023T190000
DTEND;TZID=America/Chicago:20261023T213000
SUMMARY:Alex Henley & the Exchange
DESCRIPTION:Europe Tour
LOCATION:Les Aubergiste - Pl. Auguste Canon\, 26740 Marsanne\, France
END:VEVENT
END:VCALENDAR
