BEGIN:VCALENDAR
VERSION:2.0
PRODID:-//Musician Gig Tracker//EN
CALSCALE:GREGORIAN
BEGIN:VEVENT
UID:mgt-gig-82@alexhenley.com
DTSTAMP:20260423T143055Z
DTSTART;TZID=America/Chicago:20261024T190000
DTEND;TZID=America/Chicago:20261024T213000
SUMMARY:Alex Henley & the Exchange
DESCRIPTION:Europe Tour
END:VEVENT
END:VCALENDAR
