BEGIN:VCALENDAR
VERSION:2.0
PRODID:-//Musician Gig Tracker//EN
CALSCALE:GREGORIAN
BEGIN:VEVENT
UID:mgt-gig-84@alexhenley.com
DTSTAMP:20260423T143019Z
DTSTART;TZID=America/Chicago:20261025T190000
DTEND;TZID=America/Chicago:20261025T210000
SUMMARY:Alex Henley & the Exchange
DESCRIPTION:Europe Tour - Romans\, France
END:VEVENT
END:VCALENDAR
