BEGIN:VCALENDAR
VERSION:2.0
PRODID:-//Musician Gig Tracker//EN
CALSCALE:GREGORIAN
BEGIN:VEVENT
UID:mgt-gig-85@alexhenley.com
DTSTAMP:20260423T143121Z
DTSTART;TZID=America/Chicago:20260625T160000
DTEND;TZID=America/Chicago:20260625T180000
SUMMARY:Alex Henley & the Exchange
DESCRIPTION:Of course you'll need to be traveling that day\, but if you're in the airport - come see us!
LOCATION:Austin-Bergstrom International Airport | Saxon Pub - 3600 Presidential Blvd\, Austin\, TX 78719
END:VEVENT
END:VCALENDAR
